Workbook

Sheet Лист1
A1: Школа | B1: ГБОУ №129 Красногвардейского района Санкт-Петербурга | E1: Отд./корп | I1: 46300
A3: Прием пищи | B3: Раздел | C3: № рец. | D3: Блюдо | E3: Выход, г | F3: Цена | G3: Калорийность | H3: Белки | I3: Жиры | J3: Углеводы
A6: Обед | B6: закуска | C6: =[1]Лист1!K101 -> 2012 | D6: =[1]Лист1!E101 -> Салат из квашенной капусты( до 01.03.с репчатым луком,с 01.03 с зелёным луком | E6: =[1]Лист1!F101 -> 60 | G6: 67.67 | H6: =[1]Лист1!H101 -> 3.06 | I6: =[1]Лист1!I101 -> 4.62 | J6: =[1]Лист1!J101 -> 49.62
B7: 1 блюдо | C7: =[1]Лист1!K102 -> 2008, 80 | D7: =[1]Лист1!E102 -> Рассольник домашний с птицей и сметаной | E7: =[1]Лист1!F102 -> 210 | G7: 77.8 | H7: =[1]Лист1!H102 -> 5.32 | I7: =[1]Лист1!I102 -> 11.76 | J7: =[1]Лист1!J102 -> 110.6
B8: 2 блюдо | C8: =[1]Лист1!K103 -> 2017, 291 | D8: =[1]Лист1!E103 -> Плов из филе птицы | E8: =[1]Лист1!F103 -> 240 | G8: 92.7 | H8: =[1]Лист1!H103 -> 12.19 | I8: =[1]Лист1!I103 -> 43.68 | J8: =[1]Лист1!J103 -> 330.88
B9: напиток | C9: =[1]Лист1!K104 -> 2008, 399 | D9: =[1]Лист1!E104 -> Компот из сухофруктов | E9: =[1]Лист1!F104 -> 200 | G9: 147.9 | H9: =[1]Лист1!H104 -> 0.1 | I9: =[1]Лист1!I104 -> 31.7 | J9: =[1]Лист1!J104 -> 131
B10: хлеб бел. | C10: =[1]Лист1!K105 -> к/к | D10: =[1]Лист1!E105 -> Батон обогащенный микронутриентами | E10: =[1]Лист1!F105 -> 40 | G10: 131 | H10: =[1]Лист1!H105 -> 1.1 | I10: =[1]Лист1!I105 -> 18.6 | J10: =[1]Лист1!J105 -> 95.9
B11: хлеб черн. | C11: =[1]Лист1!K106 -> к/к | D11: =[1]Лист1!E106 -> Хлеб ржано-пшеничный обогащенный микронутриентами | E11: =[1]Лист1!F106 -> 40 | G11: 95.9 | H11: =[1]Лист1!H106 -> 1.7 | I11: =[1]Лист1!I106 -> 20.4 | J11: =[1]Лист1!J106 -> 109.7
G12: 109.7 | H12: =[1]Лист1!H107 -> 0 | I12: =[1]Лист1!I107 -> 0 | J12: =[1]Лист1!J107 -> 0
F13: 156.5
B15: итого | E15: 790 | G15: =[1]Лист1!$J$109 -> 827.7 | H15: =[1]Лист1!G109 -> 24.78 | I15: =[1]Лист1!H109 -> 23.47 | J15: =[1]Лист1!I109 -> 130.76
