Workbook

Sheet Лист1
A1: Школа | B1: ГБОУ №129 Красногвардейского района Санкт-Петербурга | E1: Отд./корп | I1: 46311
A3: Прием пищи | B3: Раздел | C3: № рец. | D3: Блюдо | E3: Выход, г | F3: Цена | G3: Калорийность | H3: Белки | I3: Жиры | J3: Углеводы
A6: Обед | B6: закуска | C6: =[1]Лист1!K84 -> 2017, 37 | D6: =[1]Лист1!E84 -> Салат картофельный с солеными огурцами, маслом растительным | E6: =[1]Лист1!F84 -> 60 | G6: 67.67 | H6: =[1]Лист1!G84 -> 0.8 | I6: =[1]Лист1!H84 -> 4.74 | J6: =[1]Лист1!I84 -> 5.1
B7: 1 блюдо | C7: =[1]Лист1!K85 -> 2008, 94 | D7: =[1]Лист1!E85 -> Суп крестьянский с крупой и птицей | E7: =[1]Лист1!F85 -> 210 | G7: 77.8 | H7: =[1]Лист1!G85 -> 4.76 | I7: =[1]Лист1!H85 -> 5.38 | J7: =[1]Лист1!I85 -> 9.92
B8: 2 блюдо | C8: =[1]Лист1!K86 -> 2008, 245372 | D8: =[1]Лист1!E86 -> Тефтели рыбные, соус сметанный с томатом | E8: =[1]Лист1!F86 -> 90 | G8: 92.7 | H8: =[1]Лист1!G86 -> 6.12 | I8: =[1]Лист1!H86 -> 3.69 | J8: =[1]Лист1!I86 -> 5.76
B9: гарнир | C9: =[1]Лист1!K87 -> 2008, 335 | D9: =[1]Лист1!E87 -> Пюре картофельное | E9: =[1]Лист1!F87 -> 150 | G9: 147.9 | H9: =[1]Лист1!G87 -> 3.09 | I9: =[1]Лист1!H87 -> 5.4 | J9: =[1]Лист1!I87 -> 20.34
B10: напиток | C10: =[1]Лист1!K88 -> 2008, 402 | D10: =[1]Лист1!E88 -> Компот из сухофруктов | E10: =[1]Лист1!F88 -> 200 | G10: 131 | H10: =[1]Лист1!G88 -> 0.6 | I10: =[1]Лист1!H88 -> 0.1 | J10: =[1]Лист1!I88 -> 31.7
B11: =[1]Лист1!D89 -> хлеб бел. | C11: =[1]Лист1!K89 -> к/к | D11: =[1]Лист1!E89 -> Батон обогащенный микронутриентами | E11: =[1]Лист1!F89 -> 40 | G11: 95.9 | H11: =[1]Лист1!G89 -> 2.9 | I11: =[1]Лист1!H89 -> 1.1 | J11: =[1]Лист1!I89 -> 18.6
B12: =[1]Лист1!D90 -> хлеб черн. | C12: =[1]Лист1!K90 -> к/к | D12: =[1]Лист1!E90 -> Хлеб ржано-пшеничный обогащенный микронутриентами | E12: =[1]Лист1!F90 -> 40 | G12: 109.7 | H12: =[1]Лист1!G90 -> 3.2 | I12: =[1]Лист1!H90 -> 1.7 | J12: =[1]Лист1!I90 -> 20.4
F13: 156.5
B15: итого | E15: 790 | G15: =[1]Лист1!$J$92 -> 731.92 | H15: =[1]Лист1!G92 -> 21.47 | I15: =[1]Лист1!H92 -> 22.11 | J15: =[1]Лист1!I92 -> 111.82
